BEGIN:VCALENDAR
VERSION:2.0
PRODID:-//Masters Gymnasts Club - ECPv6.15.14//NONSGML v1.0//EN
CALSCALE:GREGORIAN
METHOD:PUBLISH
X-WR-CALNAME:Masters Gymnasts Club
X-ORIGINAL-URL:https://mastergym.co.za
X-WR-CALDESC:Events for Masters Gymnasts Club
REFRESH-INTERVAL;VALUE=DURATION:PT1H
X-Robots-Tag:noindex
X-PUBLISHED-TTL:PT1H
BEGIN:VTIMEZONE
TZID:UTC
BEGIN:STANDARD
TZOFFSETFROM:+0000
TZOFFSETTO:+0000
TZNAME:UTC
DTSTART:20170101T000000
END:STANDARD
END:VTIMEZONE
BEGIN:VEVENT
DTSTART;TZID=UTC:20180803T120000
DTEND;TZID=UTC:20180804T180000
DTSTAMP:20260425T131253
CREATED:20180603T182119Z
LAST-MODIFIED:20180603T182119Z
UID:1261-1533297600-1533405600@mastergym.co.za
SUMMARY:Gauteng Provincial TRM Championship
DESCRIPTION:Qualifier for SA Gym Games and Zone Festival
URL:https://mastergym.co.za/event/gauteng-provincial-trm-championship/
END:VEVENT
BEGIN:VEVENT
DTSTART;TZID=UTC:20180818T070000
DTEND;TZID=UTC:20180818T180000
DTSTAMP:20260425T131253
CREATED:20180603T182254Z
LAST-MODIFIED:20180603T182358Z
UID:1263-1534575600-1534615200@mastergym.co.za
SUMMARY:Springs Stars Acro competition
DESCRIPTION:
URL:https://mastergym.co.za/event/springs-stars-acro-competition/
END:VEVENT
BEGIN:VEVENT
DTSTART;TZID=UTC:20180824T140000
DTEND;TZID=UTC:20180825T200000
DTSTAMP:20260425T131253
CREATED:20180603T182555Z
LAST-MODIFIED:20180603T182555Z
UID:1265-1535119200-1535227200@mastergym.co.za
SUMMARY:Trampoline Zone Festival
DESCRIPTION:
URL:https://mastergym.co.za/event/trampoline-zone-festival/
END:VEVENT
BEGIN:VEVENT
DTSTART;TZID=UTC:20180831T140000
DTEND;TZID=UTC:20180901T210000
DTSTAMP:20260425T131253
CREATED:20180603T182728Z
LAST-MODIFIED:20180603T182728Z
UID:1267-1535724000-1535835600@mastergym.co.za
SUMMARY:East Gauteng Regional ACR Championship
DESCRIPTION:Qualifier for SA Gym Games
URL:https://mastergym.co.za/event/east-gauteng-regional-acr-championship/
END:VEVENT
END:VCALENDAR