BEGIN:VCALENDAR
VERSION:2.0
PRODID:-//Masters Gymnasts Club - ECPv6.15.14//NONSGML v1.0//EN
CALSCALE:GREGORIAN
METHOD:PUBLISH
X-WR-CALNAME:Masters Gymnasts Club
X-ORIGINAL-URL:https://mastergym.co.za
X-WR-CALDESC:Events for Masters Gymnasts Club
REFRESH-INTERVAL;VALUE=DURATION:PT1H
X-Robots-Tag:noindex
X-PUBLISHED-TTL:PT1H
BEGIN:VTIMEZONE
TZID:UTC
BEGIN:STANDARD
TZOFFSETFROM:+0000
TZOFFSETTO:+0000
TZNAME:UTC
DTSTART:20170101T000000
END:STANDARD
END:VTIMEZONE
BEGIN:VEVENT
DTSTART;TZID=UTC:20181001T100000
DTEND;TZID=UTC:20181006T170000
DTSTAMP:20260425T101828
CREATED:20180603T183036Z
LAST-MODIFIED:20180603T183036Z
UID:1271-1538388000-1538845200@mastergym.co.za
SUMMARY:SA Gymnastics Games
DESCRIPTION:
URL:https://mastergym.co.za/event/sa-gymnastics-games/
END:VEVENT
END:VCALENDAR